BEGIN:VCALENDAR
VERSION:2.0
PRODID:-//Central KY Landlord Association - ECPv6.15.20//NONSGML v1.0//EN
CALSCALE:GREGORIAN
METHOD:PUBLISH
X-ORIGINAL-URL:https://centralkylandlords.com
X-WR-CALDESC:Events for Central KY Landlord Association
REFRESH-INTERVAL;VALUE=DURATION:PT1H
X-Robots-Tag:noindex
X-PUBLISHED-TTL:PT1H
BEGIN:VTIMEZONE
TZID:America/Kentucky/Louisville
BEGIN:DAYLIGHT
TZOFFSETFROM:-0500
TZOFFSETTO:-0400
TZNAME:EDT
DTSTART:20230312T070000
END:DAYLIGHT
BEGIN:STANDARD
TZOFFSETFROM:-0400
TZOFFSETTO:-0500
TZNAME:EST
DTSTART:20231105T060000
END:STANDARD
BEGIN:DAYLIGHT
TZOFFSETFROM:-0500
TZOFFSETTO:-0400
TZNAME:EDT
DTSTART:20240310T070000
END:DAYLIGHT
BEGIN:STANDARD
TZOFFSETFROM:-0400
TZOFFSETTO:-0500
TZNAME:EST
DTSTART:20241103T060000
END:STANDARD
BEGIN:DAYLIGHT
TZOFFSETFROM:-0500
TZOFFSETTO:-0400
TZNAME:EDT
DTSTART:20250309T070000
END:DAYLIGHT
BEGIN:STANDARD
TZOFFSETFROM:-0400
TZOFFSETTO:-0500
TZNAME:EST
DTSTART:20251102T060000
END:STANDARD
END:VTIMEZONE
BEGIN:VEVENT
DTSTART;TZID=America/Kentucky/Louisville:20240514T083000
DTEND;TZID=America/Kentucky/Louisville:20240514T093000
DTSTAMP:20260425T070639
CREATED:20240501T150526Z
LAST-MODIFIED:20240501T150526Z
UID:20277-1715675400-1715679000@centralkylandlords.com
SUMMARY:May board meeting
DESCRIPTION:
URL:https://centralkylandlords.com/event/may-board-meeting/
LOCATION:The Burg Coffee House\, 701 W. Broadway\, Lawrenceburg\, KY\, 40342
END:VEVENT
BEGIN:VEVENT
DTSTART;TZID=America/Kentucky/Louisville:20240521T180000
DTEND;TZID=America/Kentucky/Louisville:20240521T190000
DTSTAMP:20260425T070639
CREATED:20240501T151103Z
LAST-MODIFIED:20240501T151103Z
UID:20282-1716314400-1716318000@centralkylandlords.com
SUMMARY:May Membership Meeting
DESCRIPTION:
URL:https://centralkylandlords.com/event/may-membership-meeting/
LOCATION:Blue Grass Sabor\, 1010 Chico Drive\, Lawrenceburg\, KY\, 40342\, United States
END:VEVENT
END:VCALENDAR