BEGIN:VCALENDAR
VERSION:2.0
PRODID:-//Central KY Landlord Association - ECPv6.15.20//NONSGML v1.0//EN
CALSCALE:GREGORIAN
METHOD:PUBLISH
X-WR-CALNAME:Central KY Landlord Association
X-ORIGINAL-URL:https://centralkylandlords.com
X-WR-CALDESC:Events for Central KY Landlord Association
REFRESH-INTERVAL;VALUE=DURATION:PT1H
X-Robots-Tag:noindex
X-PUBLISHED-TTL:PT1H
BEGIN:VTIMEZONE
TZID:America/Kentucky/Louisville
BEGIN:DAYLIGHT
TZOFFSETFROM:-0500
TZOFFSETTO:-0400
TZNAME:EDT
DTSTART:20250309T070000
END:DAYLIGHT
BEGIN:STANDARD
TZOFFSETFROM:-0400
TZOFFSETTO:-0500
TZNAME:EST
DTSTART:20251102T060000
END:STANDARD
BEGIN:DAYLIGHT
TZOFFSETFROM:-0500
TZOFFSETTO:-0400
TZNAME:EDT
DTSTART:20260308T070000
END:DAYLIGHT
BEGIN:STANDARD
TZOFFSETFROM:-0400
TZOFFSETTO:-0500
TZNAME:EST
DTSTART:20261101T060000
END:STANDARD
BEGIN:DAYLIGHT
TZOFFSETFROM:-0500
TZOFFSETTO:-0400
TZNAME:EDT
DTSTART:20270314T070000
END:DAYLIGHT
BEGIN:STANDARD
TZOFFSETFROM:-0400
TZOFFSETTO:-0500
TZNAME:EST
DTSTART:20271107T060000
END:STANDARD
END:VTIMEZONE
BEGIN:VEVENT
DTSTART;TZID=America/Kentucky/Louisville:20260210T083000
DTEND;TZID=America/Kentucky/Louisville:20260210T093000
DTSTAMP:20260423T171830
CREATED:20260203T163232Z
LAST-MODIFIED:20260203T163232Z
UID:20428-1770712200-1770715800@centralkylandlords.com
SUMMARY:February Board Meeting
DESCRIPTION:
URL:https://centralkylandlords.com/event/february-board-meeting/
LOCATION:Panera
END:VEVENT
BEGIN:VEVENT
DTSTART;TZID=America/Kentucky/Louisville:20260217T180000
DTEND;TZID=America/Kentucky/Louisville:20260217T190000
DTSTAMP:20260423T171830
CREATED:20260203T163628Z
LAST-MODIFIED:20260203T163745Z
UID:20430-1771351200-1771354800@centralkylandlords.com
SUMMARY:February Membership Meeting
DESCRIPTION:
URL:https://centralkylandlords.com/event/february-membership-meetinf/
LOCATION:Garcia’s\, Frankfort\, KY
END:VEVENT
END:VCALENDAR